BEGIN:VCALENDAR
VERSION:2.0
PRODID:-//โรงเรียนลูกพระดาบส - ECPv6.13.0//NONSGML v1.0//EN
CALSCALE:GREGORIAN
METHOD:PUBLISH
X-WR-CALNAME:โรงเรียนลูกพระดาบส
X-ORIGINAL-URL:https://lpdbtest.lukphradabos.com
X-WR-CALDESC:Events for โรงเรียนลูกพระดาบส
REFRESH-INTERVAL;VALUE=DURATION:PT1H
X-Robots-Tag:noindex
X-PUBLISHED-TTL:PT1H
BEGIN:VTIMEZONE
TZID:UTC
BEGIN:STANDARD
TZOFFSETFROM:+0000
TZOFFSETTO:+0000
TZNAME:UTC
DTSTART:20230101T000000
END:STANDARD
END:VTIMEZONE
BEGIN:VEVENT
DTSTART;TZID=UTC:20230902T080000
DTEND;TZID=UTC:20230902T170000
DTSTAMP:20260420T141104
CREATED:20230823T032044Z
LAST-MODIFIED:20230823T074645Z
UID:831-1693641600-1693674000@lpdbtest.lukphradabos.com
SUMMARY:“การปลูกพืชไม่ใช้ดิน (Hydroponics) และการเสริมสร้างการเป็นผู้ประกอบการ” อบรม 7 วัน จำนวน 2 รุ่น
DESCRIPTION:การปลูกพืชไม่ใช้ดิน (Hydroponics) และการเสริมสร้างการเป็นผู้ประกอบการ อบรม 7 วัน จำนวน 2 รุ่น\nหมายเหตุ : ทุกหลักสูตรจะมีการเรียนเขียนแผนธุรกิจเบื่องต้น จำนวน 2 วัน ผู้เข้าอบรมจะต้องเข้าอบรมครบทุกวัน
URL:https://lpdbtest.lukphradabos.com/course/%e0%b8%81%e0%b8%b2%e0%b8%a3%e0%b8%9b%e0%b8%a5%e0%b8%b9%e0%b8%81%e0%b8%9e%e0%b8%b7%e0%b8%8a%e0%b9%84%e0%b8%a1%e0%b9%88%e0%b9%83%e0%b8%8a%e0%b9%89%e0%b8%94%e0%b8%b4%e0%b8%99-hydroponics-%e0%b9%81/
LOCATION:โรงเรียนลูกพระดาบส\, 89 หมู่ 14 ต.บางปลา\, บางพลี\, สมุทรปราการ\, 10540\, Thailand
CATEGORIES:หลักสูตรระยะสั้น
ATTACH;FMTTYPE=image/jpeg:https://lpdbtest.lukphradabos.com/wp-content/uploads/2023/08/LINE_ALBUM_ไฮโดร19.4.65_๒๒๐๕๒๒_3.jpg
END:VEVENT
BEGIN:VEVENT
DTSTART;TZID=UTC:20230901T080000
DTEND;TZID=UTC:20230901T170000
DTSTAMP:20260420T141104
CREATED:20230818T075636Z
LAST-MODIFIED:20230823T074650Z
UID:792-1693555200-1693587600@lpdbtest.lukphradabos.com
SUMMARY:“การเพาะเห็ดแบบครบวงจรและการเสริมสร้างการเป็นผู้ประกอบการ” อบรม 7 วัน จำนวน 1 รุ่น
DESCRIPTION:การเพาะเห็ดแบบครบวงจรและการเสริมสร้างการเป็นผู้ประกอบการ” อบรม 7 วัน จำนวน 1 รุ่น\nหมายเหตุ : ทุกหลักสูตรจะมีการเรียนเขียนแผนธุรกิจเบื่องต้น จำนวน 2 วัน ผู้เข้าอบรมจะต้องเข้าอบรมครบทุกวัน
URL:https://lpdbtest.lukphradabos.com/course/event-1/
LOCATION:โรงเรียนลูกพระดาบส\, 89 หมู่ 14 ต.บางปลา\, บางพลี\, สมุทรปราการ\, 10540\, Thailand
CATEGORIES:หลักสูตร SMEs,หลักสูตรระยะสั้น
ATTACH;FMTTYPE=image/jpeg:https://lpdbtest.lukphradabos.com/wp-content/uploads/2023/08/LINE_ALBUM_เห้ดรุ่น-2_๒๒๐๕๒๒_4.jpg
END:VEVENT
BEGIN:VEVENT
DTSTART;TZID=UTC:20230831T080000
DTEND;TZID=UTC:20230831T170000
DTSTAMP:20260420T141104
CREATED:20230823T041235Z
LAST-MODIFIED:20230823T074653Z
UID:850-1693468800-1693501200@lpdbtest.lukphradabos.com
SUMMARY:“การทำเบเกอรี่และการเสริมสร้างการเป็นผู้ประกอบการ” อบรม 7 วัน จำนวน 2 รุ่น
DESCRIPTION:“การทำเบเกอรี่และการเสริมสร้างการเป็นผู้ประกอบการ” อบรม 7 วัน จำนวน 2 รุ่น\nหมายเหตุ : ทุกหลักสูตรจะมีการเรียนเขียนแผนธุรกิจเบื่องต้น จำนวน 2 วัน ผู้เข้าอบรมจะต้องเข้าอบรมครบทุกวัน
URL:https://lpdbtest.lukphradabos.com/course/%e0%b8%81%e0%b8%b2%e0%b8%a3%e0%b8%97%e0%b8%b3%e0%b9%80%e0%b8%9a%e0%b9%80%e0%b8%81%e0%b8%ad%e0%b8%a3%e0%b8%b5%e0%b9%88%e0%b9%81%e0%b8%a5%e0%b8%b0%e0%b8%81%e0%b8%b2%e0%b8%a3%e0%b9%80%e0%b8%aa/
LOCATION:โรงเรียนลูกพระดาบส\, 89 หมู่ 14 ต.บางปลา\, บางพลี\, สมุทรปราการ\, 10540\, Thailand
CATEGORIES:หลักสูตรระยะสั้น
END:VEVENT
BEGIN:VEVENT
DTSTART;TZID=UTC:20230831T080000
DTEND;TZID=UTC:20230831T170000
DTSTAMP:20260420T141104
CREATED:20230823T040335Z
LAST-MODIFIED:20230823T074658Z
UID:839-1693468800-1693501200@lpdbtest.lukphradabos.com
SUMMARY:“น้ำพริก 4 ภาค น้ำจิ้มต่างๆ และการเสริมสร้างการเป็นผู้ประกอบการ” อบรม 7 วัน จำนวน 2 รุ่น
DESCRIPTION:“น้ำพริก 4 ภาค น้ำจิ้มต่างๆ และการเสริมสร้างการเป็นผู้ประกอบการ” อบรม 7 วัน จำนวน 2 รุ่น\nหมายเหตุ : ทุกหลักสูตรจะมีการเรียนเขียนแผนธุรกิจเบื่องต้น จำนวน 2 วัน ผู้เข้าอบรมจะต้องเข้าอบรมครบทุกวัน
URL:https://lpdbtest.lukphradabos.com/course/%e0%b8%99%e0%b9%89%e0%b8%b3%e0%b8%9e%e0%b8%a3%e0%b8%b4%e0%b8%81-4-%e0%b8%a0%e0%b8%b2%e0%b8%84-%e0%b8%99%e0%b9%89%e0%b8%b3%e0%b8%88%e0%b8%b4%e0%b9%89%e0%b8%a1%e0%b8%95%e0%b9%88%e0%b8%b2/
LOCATION:โรงเรียนลูกพระดาบส\, 89 หมู่ 14 ต.บางปลา\, บางพลี\, สมุทรปราการ\, 10540\, Thailand
CATEGORIES:หลักสูตรระยะสั้น
ATTACH;FMTTYPE=image/jpeg:https://lpdbtest.lukphradabos.com/wp-content/uploads/2023/08/LINE_ALBUM_จัดสวนในงานพิธี-5.4.65_๒๒๐๕๒๒_29.jpg
END:VEVENT
BEGIN:VEVENT
DTSTART;TZID=UTC:20230826T080000
DTEND;TZID=UTC:20230826T170000
DTSTAMP:20260420T141104
CREATED:20230823T035634Z
LAST-MODIFIED:20230823T074703Z
UID:835-1693036800-1693069200@lpdbtest.lukphradabos.com
SUMMARY:“ช่างไม้เครื่องเรือนประกอบโครงไม้จริง และการเสริมสร้างการเป็นผู้ประกอบการ” อบรม 13 วัน จำนวน 2 รุ่น
DESCRIPTION:ช่างไม้เครื่องเรือนประกอบโครงไม้จริงและการเสริมสร้างการเป็นผู้ประกอบการ อบรม 13 วัน จำนวน 2 รุ่น\nหมายเหตุ : ทุกหลักสูตรจะมีการเรียนเขียนแผนธุรกิจเบื่องต้น จำนวน 2 วัน ผู้เข้าอบรมจะต้องเข้าอบรมครบทุกวัน
URL:https://lpdbtest.lukphradabos.com/course/%e0%b8%8a%e0%b9%88%e0%b8%b2%e0%b8%87%e0%b9%84%e0%b8%a1%e0%b9%89%e0%b9%80%e0%b8%84%e0%b8%a3%e0%b8%b7%e0%b9%88%e0%b8%ad%e0%b8%87%e0%b9%80%e0%b8%a3%e0%b8%b7%e0%b8%ad%e0%b8%99%e0%b8%9b%e0%b8%a3%e0%b8%b0/
LOCATION:โรงเรียนลูกพระดาบส\, 89 หมู่ 14 ต.บางปลา\, บางพลี\, สมุทรปราการ\, 10540\, Thailand
CATEGORIES:หลักสูตรระยะสั้น
END:VEVENT
BEGIN:VEVENT
DTSTART;TZID=UTC:20230824T080000
DTEND;TZID=UTC:20230824T170000
DTSTAMP:20260420T141104
CREATED:20230823T040847Z
LAST-MODIFIED:20230823T074710Z
UID:846-1692864000-1692896400@lpdbtest.lukphradabos.com
SUMMARY:“ร้านกาแฟสดและการเสริมสร้างการเป็นผู้ประกอบการ” อบรม 6 วัน จำนวน 3 รุ่น
DESCRIPTION:“ร้านกาแฟสดและการเสริมสร้างการเป็นผู้ประกอบการ” อบรม 6 วัน จำนวน 3 รุ่น\nหมายเหตุ : ทุกหลักสูตรจะมีการเรียนเขียนแผนธุรกิจเบื่องต้น จำนวน 2 วัน ผู้เข้าอบรมจะต้องเข้าอบรมครบทุกวัน
URL:https://lpdbtest.lukphradabos.com/course/%e0%b8%a3%e0%b9%89%e0%b8%b2%e0%b8%99%e0%b8%81%e0%b8%b2%e0%b9%81%e0%b8%9f%e0%b8%aa%e0%b8%94%e0%b9%81%e0%b8%a5%e0%b8%b0%e0%b8%81%e0%b8%b2%e0%b8%a3%e0%b9%80%e0%b8%aa%e0%b8%a3%e0%b8%b4%e0%b8%a1/
LOCATION:โรงเรียนลูกพระดาบส\, 89 หมู่ 14 ต.บางปลา\, บางพลี\, สมุทรปราการ\, 10540\, Thailand
CATEGORIES:หลักสูตรระยะสั้น
ATTACH;FMTTYPE=image/jpeg:https://lpdbtest.lukphradabos.com/wp-content/uploads/2023/08/LINE_ALBUM_ร้านกาแฟ-รุ่น-1_๒๒๐๕๒๒_3.jpg
END:VEVENT
END:VCALENDAR